BEGIN:VCALENDAR
VERSION:2.0
PRODID:-//RIGHTHERE//CALENDARIZE IT V3.2//EN
BEGIN:VEVENT
UID:924-events@modernmysteryschoolnorcal.com
DTSTART:20211212T000000Z
DTEND:20211212T000000Z
DTSTAMP:20210420T184427Z
SUMMARY:Mermaid Magick
RDATE;VALUE=PERIOD:20260110T100000/20260110T190000
URL:https://modernmysteryschoolnorcal.com/events/mermaid-magick
ORGANIZER;CN=Erin Wallace:MAILTO:EventsMMSNCal@gmail.com
LOCATION:Homewood Suites by Hilton Pleasant Hill Concord
END:VEVENT
END:VCALENDAR