BEGIN:VCALENDAR
VERSION:2.0
PRODID:-//RIGHTHERE//CALENDARIZE IT V3.2//EN
BEGIN:VEVENT
UID:451-events@modernmysteryschoolnorcal.com
DTSTART:20210103T110000Z
DTEND:20210103T170000Z
DTSTAMP:20201231T010201Z
SUMMARY:Sacred Geometry Level 6
RDATE;VALUE=PERIOD:20210207T110000/20210207T170000,20210507T093000/20210507
 T153000,20220122T110000/20220122T170000,20231217T110000/20231217T170000
URL:https://modernmysteryschoolnorcal.com/events/sacred-geometry-level-6
ORGANIZER;CN=Erin Wallace:MAILTO:EventsMMSNCal@gmail.com
LOCATION:1630 Contra Costa Blvd\, Suite 212\, Pleasant Hill\, CA 94523
END:VEVENT
END:VCALENDAR