BEGIN:VCALENDAR
VERSION:2.0
PRODID:-//RIGHTHERE//CALENDARIZE IT V3.2//EN
BEGIN:VEVENT
UID:436-events@modernmysteryschoolnorcal.com
DTSTART:20200808T000000Z
DTEND:20200808T000000Z
DTSTAMP:20201231T002551Z
SUMMARY:Sacred Geometry Level 4
RDATE;VALUE=PERIOD:20210808T100000/20210808T143000,20211023T100000/20211023
 T150000,20221006T150000/20221006T190000,20230402T100000/20230402T150000,20
 231007T110000/20231007T153000,20260111T100000/20260111T140000
URL:https://modernmysteryschoolnorcal.com/events/sacred-geometry-level-4
ORGANIZER;CN=Erin Wallace:MAILTO:EventsMMSNCal@gmail.com
LOCATION:1630 Contra Costa Blvd\, Suite 212\, Pleasant Hill\, CA 94523
END:VEVENT
END:VCALENDAR