BEGIN:VCALENDAR
VERSION:2.0
PRODID:-//RIGHTHERE//CALENDARIZE IT V3.2//EN
BEGIN:VEVENT
UID:1577-events@modernmysteryschoolnorcal.com
DTSTART:20260126T190000Z
DTEND:20260126T200000Z
DTSTAMP:20230710T225355Z
SUMMARY:Universal Hermetic Ray Kabbalah FREE ONLINE Introduction
RDATE;VALUE=PERIOD:20231218T193000/20231218T203000,20240918T190000/20240918
 T200000,20241203T190000/20241203T200000,20260624T190000/20260624T200000
URL:https://modernmysteryschoolnorcal.com/events/universal-hermetic-ray-kab
 balah-free-online-introduction
ORGANIZER;CN=Erin Wallace:MAILTO:EventsMMSNCal@gmail.com
LOCATION:Online on Zoom
END:VEVENT
END:VCALENDAR